BEGIN:VCALENDAR
VERSION:2.0
PRODID:-//Rooted In - ECPv6.15.20//NONSGML v1.0//EN
CALSCALE:GREGORIAN
METHOD:PUBLISH
X-WR-CALNAME:Rooted In
X-ORIGINAL-URL:https://rootedin.com
X-WR-CALDESC:Events for Rooted In
REFRESH-INTERVAL;VALUE=DURATION:PT1H
X-Robots-Tag:noindex
X-PUBLISHED-TTL:PT1H
BEGIN:VTIMEZONE
TZID:UTC
BEGIN:STANDARD
TZOFFSETFROM:+0000
TZOFFSETTO:+0000
TZNAME:UTC
DTSTART:20230101T000000
END:STANDARD
END:VTIMEZONE
BEGIN:VEVENT
DTSTART;TZID=UTC:20240711T180000
DTEND;TZID=UTC:20240711T193000
DTSTAMP:20260423T114404
CREATED:20231017T185355Z
LAST-MODIFIED:20231017T194950Z
UID:31901-1720720800-1720726200@rootedin.com
SUMMARY:Rain Gardens: Where Beauty Meets Functionality
DESCRIPTION:Designed to beautify the landscape\, while at the same time taking advantage of water that would otherwise run down the storm drain\, rain gardens and bioswales are a great way to increase your rainwater harvesting capacity. Learn the basics of rain garden design and maintenance along with an overview of the flood of plant material that can thrive in these enticing garden features. We’ll also provide a stream of resources to help you tackle this DIY project or choose the right people to help you get growing.
URL:https://rootedin.com/event/rain-gardens-where-beauty-meets-functionality-2/
LOCATION:Fort Worth Botanic Garden\, 3220 Botanic Garden Blvd.\, Fort Worth\, TX\, 76107\, United States
END:VEVENT
END:VCALENDAR