BEGIN:VCALENDAR
VERSION:2.0
PRODID:-//Rooted In - ECPv6.15.20//NONSGML v1.0//EN
CALSCALE:GREGORIAN
METHOD:PUBLISH
X-WR-CALNAME:Rooted In
X-ORIGINAL-URL:https://rootedin.com
X-WR-CALDESC:Events for Rooted In
REFRESH-INTERVAL;VALUE=DURATION:PT1H
X-Robots-Tag:noindex
X-PUBLISHED-TTL:PT1H
BEGIN:VTIMEZONE
TZID:UTC
BEGIN:STANDARD
TZOFFSETFROM:+0000
TZOFFSETTO:+0000
TZNAME:UTC
DTSTART:20220101T000000
END:STANDARD
END:VTIMEZONE
BEGIN:VEVENT
DTSTART;TZID=UTC:20230608T180000
DTEND;TZID=UTC:20230608T193000
DTSTAMP:20260419T094305
CREATED:20230130T214326Z
LAST-MODIFIED:20230130T214326Z
UID:28408-1686247200-1686252600@rootedin.com
SUMMARY:Perfectly Planted Pots: Container Gardening
DESCRIPTION:Once you sign up for this class\, you won’t be able to contain yourself! If you have a small yard or patio that needs a pop of ornamental color\, are frustrated with the poor soils on your property\, or just simply don’t have the space to grow your fruits and veggies\, then give container gardening a try. Gardening in containers is a great way to grow your horticulture skills! This course is such a fun way to put the Spiller\, Filler and Thriller back in your life and your landscape. \nRegister online at Water Saving Seminar-Perfectly Planted Pots: Container Gardening Tickets\, Thu\, Jun 8\, 2023 at 6:00 PM | Eventbrite
URL:https://rootedin.com/event/perfectly-planted-pots-container-gardening-6/
LOCATION:Botanical Research Institute of Texas\, 1700 University Dr\, Fort Worth\, TX\, 76107-3400\, United States
ATTACH;FMTTYPE=image/png:https://rootedin.com/wp-content/uploads/2022/02/Container.png
END:VEVENT
END:VCALENDAR