BEGIN:VCALENDAR
VERSION:2.0
PRODID:-//Rooted In - ECPv6.15.20//NONSGML v1.0//EN
CALSCALE:GREGORIAN
METHOD:PUBLISH
X-WR-CALNAME:Rooted In
X-ORIGINAL-URL:https://rootedin.com
X-WR-CALDESC:Events for Rooted In
REFRESH-INTERVAL;VALUE=DURATION:PT1H
X-Robots-Tag:noindex
X-PUBLISHED-TTL:PT1H
BEGIN:VTIMEZONE
TZID:UTC
BEGIN:STANDARD
TZOFFSETFROM:+0000
TZOFFSETTO:+0000
TZNAME:UTC
DTSTART:20230101T000000
END:STANDARD
END:VTIMEZONE
BEGIN:VEVENT
DTSTART;TZID=UTC:20240316T090000
DTEND;TZID=UTC:20240316T103000
DTSTAMP:20260423T131852
CREATED:20231107T183704Z
LAST-MODIFIED:20240204T181307Z
UID:32032-1710579600-1710585000@rootedin.com
SUMMARY:Lawn Care: Green with Envy
DESCRIPTION:Revitalize your turf with a simple\, effective approach to lawn maintenance. You will learn the best lawn care methods\, efficient watering techniques\, plus simple fertilizer\, and pesticide application to reduce pest issues. We will help you create a lush and healthy lawn that will make your neighbors green with envy!
URL:https://rootedin.com/event/lawn-care-green-with-envy-7/
ATTACH;FMTTYPE=image/jpeg:https://rootedin.com/wp-content/uploads/2023/11/421548768_2057339487964781_7349119807589130641_n.jpg
LOCATION:https://teams.microsoft.com/l/meetup-join/19%3ameeting_MTUxNTBlMzItMTEzYS00NjUzLWJhYjAtNDZjNmM2M2QzMjhl%40thread.v2/0?context=%7b%22Tid%22%3a%22bbe1ceaa-e922-4f0e-9e02-d2c0501c346f%22%2c%22Oid%22%3a%22346d0c98-f3a6-4ce4-ba46-b5769329b2a6%22%7d
END:VEVENT
END:VCALENDAR