BEGIN:VCALENDAR
VERSION:2.0
PRODID:-//Rooted In - ECPv6.15.20//NONSGML v1.0//EN
CALSCALE:GREGORIAN
METHOD:PUBLISH
X-WR-CALNAME:Rooted In
X-ORIGINAL-URL:https://rootedin.com
X-WR-CALDESC:Events for Rooted In
REFRESH-INTERVAL;VALUE=DURATION:PT1H
X-Robots-Tag:noindex
X-PUBLISHED-TTL:PT1H
BEGIN:VTIMEZONE
TZID:UTC
BEGIN:STANDARD
TZOFFSETFROM:+0000
TZOFFSETTO:+0000
TZNAME:UTC
DTSTART:20230101T000000
END:STANDARD
END:VTIMEZONE
BEGIN:VEVENT
DTSTART;TZID=UTC:20240912T180000
DTEND;TZID=UTC:20240912T193000
DTSTAMP:20260423T114655
CREATED:20231017T185645Z
LAST-MODIFIED:20231017T194818Z
UID:31905-1726164000-1726169400@rootedin.com
SUMMARY:Fall into Gardening: Tips to Grow on
DESCRIPTION:Are you ready to take your landscape to the next level?! Fall is a perfect time to give you’re landscape a refresh.  If you’re having trouble controlling unwanted plants in your lawn and landscape or if you’re confused about when to water and when to wait\, this class is for you. Learn the best approach to planting and maintenance without the overuse of chemicals (or your time)– so you can reap the rewards of a greener environment.  We’ll also go out on a limb with tips on when and what to plant for success. We’re sure you’ll have so mulch fun!
URL:https://rootedin.com/event/fall-into-gardening-tips-to-grow-on-5/
LOCATION:Fort Worth Botanic Garden\, 3220 Botanic Garden Blvd.\, Fort Worth\, TX\, 76107\, United States
END:VEVENT
END:VCALENDAR