BEGIN:VCALENDAR
VERSION:2.0
PRODID:-//Rooted In - ECPv6.15.20//NONSGML v1.0//EN
CALSCALE:GREGORIAN
METHOD:PUBLISH
X-WR-CALNAME:Rooted In
X-ORIGINAL-URL:https://rootedin.com
X-WR-CALDESC:Events for Rooted In
REFRESH-INTERVAL;VALUE=DURATION:PT1H
X-Robots-Tag:noindex
X-PUBLISHED-TTL:PT1H
BEGIN:VTIMEZONE
TZID:UTC
BEGIN:STANDARD
TZOFFSETFROM:+0000
TZOFFSETTO:+0000
TZNAME:UTC
DTSTART:20230101T000000
END:STANDARD
END:VTIMEZONE
BEGIN:VEVENT
DTSTART;TZID=UTC:20240615T090000
DTEND;TZID=UTC:20240615T103000
DTSTAMP:20260423T131105
CREATED:20231107T184305Z
LAST-MODIFIED:20231107T184318Z
UID:32043-1718442000-1718447400@rootedin.com
SUMMARY:Sprinkler Systems 101
DESCRIPTION:Sprinkler systems can seem a bit confusing\, but they don’t have to be! This class simplifies the parts and components of your in-ground irrigation systems with easy-to-follow tips on how to operate and set your controller\, PLUS we’ll provide a well of water saving tips to keep your lawn and landscape looking good year-round. Join us to save blue while growing green!
URL:https://rootedin.com/event/32043/
LOCATION:https://teams.microsoft.com/l/meetup-join/19%3ameeting_MzFiNjhkOWEtMzgxZC00MDBiLWIwNWYtNDZlMGNhYTkxYWU5%40thread.v2/0?context=%7b%22Tid%22%3a%22bbe1ceaa-e922-4f0e-9e02-d2c0501c346f%22%2c%22Oid%22%3a%22346d0c98-f3a6-4ce4-ba46-b5769329b2a6%22%7d
END:VEVENT
END:VCALENDAR